BEGIN:VCALENDAR
VERSION:2.0
PRODID:-//wp-events-plugin.com//7.2.3.1//EN
TZID:America/Chicago
X-WR-TIMEZONE:America/Chicago
BEGIN:VEVENT
UID:27@manvellionsclub.org
DTSTART;TZID=America/Chicago;VALUE=DATE:20241019
DTEND;TZID=America/Chicago;VALUE=DATE:20241020
DTSTAMP:20240828T201236Z
URL:https://www.manvellionsclub.org/events/brazoria-county-relay-for-life/
SUMMARY:Brazoria County Relay for Life
DESCRIPTION:
LOCATION:Pearland Town Center Pavilion Area\, Pearland Town Center\, Pearla
 nd\, TX\, United States
GEO:29.552956;-95.394116
X-APPLE-STRUCTURED-LOCATION;VALUE=URI;X-ADDRESS=Pearland Town Center\, Pear
 land\, TX\, United States;X-APPLE-RADIUS=100;X-TITLE=Pearland Town Center 
 Pavilion Area:geo:29.552956,-95.394116
END:VEVENT
BEGIN:VTIMEZONE
TZID:America/Chicago
X-LIC-LOCATION:America/Chicago
BEGIN:DAYLIGHT
DTSTART:20240310T030000
TZOFFSETFROM:-0600
TZOFFSETTO:-0500
TZNAME:CDT
END:DAYLIGHT
END:VTIMEZONE
END:VCALENDAR