BEGIN:VCALENDAR
VERSION:2.0
PRODID:-//wp-events-plugin.com//7.2.3.1//EN
TZID:America/Chicago
X-WR-TIMEZONE:America/Chicago
BEGIN:VEVENT
UID:39@manvellionsclub.org
DTSTART;TZID=America/Chicago:20260512T183000
DTEND;TZID=America/Chicago:20260512T200000
DTSTAMP:20251229T154532Z
URL:https://www.manvellionsclub.org/events/manvel-lions-meet-2025-07-08-20
 25-08-12-2025-09-09-2025-10-14-2025-11-11-2025-12-09-2026-01-13-2026-02-10
 -2026-03-10-2026-04-14-2026-05-12/
SUMMARY:Manvel Lions Meet
DESCRIPTION:
CATEGORIES:Club Board Meeting,Foundation Board Meeting,Regular Club
 Meeting
LOCATION:Brisa's Tex Mex Restaurant\, 19303 Hwy 6\, Manvel\, TX\, 77578\, U
 nited States
GEO:29.472817;-95.371505
X-APPLE-STRUCTURED-LOCATION;VALUE=URI;X-ADDRESS=19303 Hwy 6\, Manvel\, TX\,
  77578\, United States;X-APPLE-RADIUS=100;X-TITLE=Brisa's Tex Mex Restaura
 nt:geo:29.472817,-95.371505
END:VEVENT
BEGIN:VTIMEZONE
TZID:America/Chicago
X-LIC-LOCATION:America/Chicago
BEGIN:DAYLIGHT
DTSTART:20260308T030000
TZOFFSETFROM:-0600
TZOFFSETTO:-0500
TZNAME:CDT
END:DAYLIGHT
END:VTIMEZONE
END:VCALENDAR