BEGIN:VCALENDAR
VERSION:2.0
PRODID:-//wp-events-plugin.com//7.2.3.1//EN
TZID:America/Chicago
X-WR-TIMEZONE:America/Chicago
BEGIN:VEVENT
UID:35@manvellionsclub.org
DTSTART;TZID=America/Chicago:20260113T183000
DTEND;TZID=America/Chicago:20260113T200000
DTSTAMP:20251229T154532Z
URL:https://www.manvellionsclub.org/events/manvel-lions-meet-2025-07-08-20
 25-08-12-2025-09-09-2025-10-14-2025-11-11-2025-12-09-2026-01-13/
SUMMARY:Manvel Lions Meet
DESCRIPTION:
CATEGORIES:Club Board Meeting,Foundation Board Meeting,Regular Club
 Meeting
LOCATION:Brisa's Tex Mex Restaurant\, 19303 Hwy 6\, Manvel\, TX\, 77578\, U
 nited States
GEO:29.472817;-95.371505
X-APPLE-STRUCTURED-LOCATION;VALUE=URI;X-ADDRESS=19303 Hwy 6\, Manvel\, TX\,
  77578\, United States;X-APPLE-RADIUS=100;X-TITLE=Brisa's Tex Mex Restaura
 nt:geo:29.472817,-95.371505
END:VEVENT
BEGIN:VTIMEZONE
TZID:America/Chicago
X-LIC-LOCATION:America/Chicago
BEGIN:STANDARD
DTSTART:20251102T010000
TZOFFSETFROM:-0500
TZOFFSETTO:-0600
TZNAME:CST
END:STANDARD
END:VTIMEZONE
END:VCALENDAR